BEGIN:VCALENDAR
VERSION:2.0
PRODID:-//jEvents 1.5 for Joomla//EN
BEGIN:VEVENT
UID:6a05be6a9f2f75c637fd6f9614754d66
CATEGORIES:Wywóz śmieci
SUMMARY:Wywóz śmieci (pojemnik)
LOCATION:
DESCRIPTION;ENCODING=QUOTED-PRINTABLE:\n\n	Wywóz odpadów komunalnych z pojemnika - zmieszane\n

DTSTART:20190117T000000
DTEND:20190117T235959
SEQUENCE:0
TRANSP:OPAQUE
END:VEVENT
END:VCALENDAR