BEGIN:VCALENDAR
VERSION:2.0
PRODID:-//jEvents 1.5 for Joomla//EN
BEGIN:VEVENT
UID:6149aaec7e88360942d1b82e1e08beb4
CATEGORIES:Wywóz śmieci
SUMMARY:Wywóz śmieci (pojemnik)
LOCATION:
DESCRIPTION;ENCODING=QUOTED-PRINTABLE:\n\n	Wywóz odpadów komunalnych z pojemnika - zmieszane\n

DTSTART:20200102T000000
DTEND:20200102T235959
SEQUENCE:0
TRANSP:OPAQUE
END:VEVENT
END:VCALENDAR