BEGIN:VCALENDAR
VERSION:2.0
PRODID:-//jEvents 1.5 for Joomla//EN
BEGIN:VEVENT
UID:3cab30a7c5e53905299127f5bf203299
CATEGORIES:Wywóz śmieci
SUMMARY:Wywóz śmieci (popiół)
LOCATION:
DESCRIPTION;ENCODING=QUOTED-PRINTABLE:\n\n	Wywóz odpadów komunalnych z pojemnika - popiół\n

DTSTART:20220103T000000
DTEND:20220103T235959
SEQUENCE:0
TRANSP:OPAQUE
END:VEVENT
END:VCALENDAR