BEGIN:VCALENDAR
VERSION:2.0
PRODID:-//jEvents 1.5 for Joomla//EN
BEGIN:VEVENT
UID:3fcc0ee480c8b2da89769e593446510b
CATEGORIES:Wywóz śmieci
SUMMARY:Wywóz śmieci (plastik)
LOCATION:
DESCRIPTION;ENCODING=QUOTED-PRINTABLE:\n\n	Wywóz wyselekconowanych odpadów (worki) - plastik\n	 \n

DTSTART:20220211T000000
DTEND:20220211T235959
SEQUENCE:0
TRANSP:OPAQUE
END:VEVENT
END:VCALENDAR