BEGIN:VCALENDAR
VERSION:2.0
PRODID:-//jEvents 1.5 for Joomla//EN
BEGIN:VEVENT
UID:05e969ec84cab727abc4d9c6ad73ef45
CATEGORIES:Wywóz śmieci
SUMMARY:Wywóz śmieci (liście)
LOCATION:
DESCRIPTION;ENCODING=QUOTED-PRINTABLE:\n\n	Wywóz bioodpadów w workach dostarczonych przez ZGK (worki) - liście
 \n

DTSTART:20220225T000000
DTEND:20220225T235959
SEQUENCE:0
TRANSP:OPAQUE
END:VEVENT
END:VCALENDAR