BEGIN:VCALENDAR
VERSION:2.0
PRODID:-//jEvents 1.5 for Joomla//EN
BEGIN:VEVENT
UID:d3845fc19e442d97ec6a04da4d4f4346
CATEGORIES:Wywóz śmieci
SUMMARY:Wywóz śmieci (odpady wielkogabarytowe, RTV/AGD)
LOCATION:
DESCRIPTION;ENCODING=QUOTED-PRINTABLE:\n\n	Wywóz odpadów wielkogabarytowych\n	Wywóz odpadów RTV/AGD\n	 \n

DTSTART:20210305T000000
DTEND:20210305T235959
SEQUENCE:0
TRANSP:OPAQUE
END:VEVENT
END:VCALENDAR