BEGIN:VCALENDAR
VERSION:2.0
PRODID:-//jEvents 1.5 for Joomla//EN
BEGIN:VEVENT
UID:9225e63a22a4b188432cfd69e6670f35
CATEGORIES:Wywóz śmieci
SUMMARY:Wywóz śmieci (pojemnik)
LOCATION:
DESCRIPTION;ENCODING=QUOTED-PRINTABLE:\n\n	Wywóz odpadów komunalnych z pojemnika - zmieszane\n

DTSTART:20220526T000000
DTEND:20220526T235959
SEQUENCE:0
TRANSP:OPAQUE
END:VEVENT
END:VCALENDAR