BEGIN:VCALENDAR
VERSION:2.0
PRODID:-//jEvents 1.5 for Joomla//EN
BEGIN:VEVENT
UID:27f8bead43570389e9a3d6fefd179edc
CATEGORIES:Wywóz śmieci
SUMMARY:Wywóz śmieci (pojemnik)
LOCATION:
DESCRIPTION;ENCODING=QUOTED-PRINTABLE:\n\n	Wywóz odpadów komunalnych z pojemnika - zmieszane\n

DTSTART:20210107T000000
DTEND:20210107T235959
SEQUENCE:0
TRANSP:OPAQUE
END:VEVENT
END:VCALENDAR